BEGIN:VCALENDAR
VERSION:2.0
PRODID:TT-Kalender
METHOD:PUBLISH
BEGIN:VTIMEZONE
TZID:Europe/Berlin
X-LIC-LOCATION:Europe/Berlin
BEGIN:STANDARD
TZNAME:CET
DTSTART:19701030T030000
RRULE:FREQ=YEARLY;BYDAY=-1SU;BYMONTH=10
TZOFFSETFROM:+0200
TZOFFSETTO:+0100
END:STANDARD
BEGIN:DAYLIGHT
TZNAME:CEST
DTSTART:19700327T020000
RRULE:FREQ=YEARLY;BYDAY=-1SU;BYMONTH=3
TZOFFSETFROM:+0100
TZOFFSETTO:+0200
END:DAYLIGHT
END:VTIMEZONE
BEGIN:VEVENT
UID:62ea2db56c5990.75469783@ttv-muehlhausen.de
DTSTAMP:20260423T213200
SUMMARY:D1: SG Dielheim/MÃ¼hlhausen - FC LohrbachÂ 
CLASS:PRIVATE

DESCRIPTION: Beginn: 20:00 h
DTSTART;TZID=Europe/Berlin:20221104T195000
DTEND;TZID=Europe/Berlin:20221104T220000
LOCATION:Kraichgauhalle Schulstr. 32\, 69242 Mühlhausen                               
BEGIN:VALARM
TRIGGER:-PT60M
ACTION:DISPLAY
DESCRIPTION:Erinnerung
END:VALARM
END:VEVENT
END:VCALENDAR