BEGIN:VCALENDAR
VERSION:2.0
PRODID:TT-Kalender
METHOD:PUBLISH
BEGIN:VTIMEZONE
TZID:Europe/Berlin
X-LIC-LOCATION:Europe/Berlin
BEGIN:STANDARD
TZNAME:CET
DTSTART:19701030T030000
RRULE:FREQ=YEARLY;BYDAY=-1SU;BYMONTH=10
TZOFFSETFROM:+0200
TZOFFSETTO:+0100
END:STANDARD
BEGIN:DAYLIGHT
TZNAME:CEST
DTSTART:19700327T020000
RRULE:FREQ=YEARLY;BYDAY=-1SU;BYMONTH=3
TZOFFSETFROM:+0100
TZOFFSETTO:+0200
END:DAYLIGHT
END:VTIMEZONE
BEGIN:VEVENT
UID:6924b9c01272e2.88948115@ttv-muehlhausen.de
DTSTAMP:20260423T104600
SUMMARY:D1: TTF Hemsbach - SG-Dielheim/MÃ¼hlhausenÂ 
CLASS:PRIVATE

DESCRIPTION: Beginn: 19:30 h
DTSTART;TZID=Europe/Berlin:20160322T182500
DTEND;TZID=Europe/Berlin:20160322T213000
LOCATION:Turnhalle BIZ Silcherweg 8\, 69502 Hemsbach                                     
BEGIN:VALARM
TRIGGER:-PT60M
ACTION:DISPLAY
DESCRIPTION:Erinnerung
END:VALARM
END:VEVENT
END:VCALENDAR