BEGIN:VCALENDAR
VERSION:2.0
PRODID:TT-Kalender
METHOD:PUBLISH
BEGIN:VTIMEZONE
TZID:Europe/Berlin
X-LIC-LOCATION:Europe/Berlin
BEGIN:STANDARD
TZNAME:CET
DTSTART:19701030T030000
RRULE:FREQ=YEARLY;BYDAY=-1SU;BYMONTH=10
TZOFFSETFROM:+0200
TZOFFSETTO:+0100
END:STANDARD
BEGIN:DAYLIGHT
TZNAME:CEST
DTSTART:19700327T020000
RRULE:FREQ=YEARLY;BYDAY=-1SU;BYMONTH=3
TZOFFSETFROM:+0100
TZOFFSETTO:+0200
END:DAYLIGHT
END:VTIMEZONE
BEGIN:VEVENT
UID:6924b9bf8fa397.75466103@ttv-muehlhausen.de
DTSTAMP:20260423T091900
SUMMARY:SchA2: TSG Eintracht PlankstadtÂ  - TTV MÃ¼hlhausen II
CLASS:PRIVATE

DESCRIPTION: Beginn: 11:00 h
DTSTART;TZID=Europe/Berlin:20151114T100000
DTEND;TZID=Europe/Berlin:20151114T123000
LOCATION:Plankstadt
BEGIN:VALARM
TRIGGER:-PT60M
ACTION:DISPLAY
DESCRIPTION:Erinnerung
END:VALARM
END:VEVENT
END:VCALENDAR