BEGIN:VCALENDAR
VERSION:2.0
PRODID:TT-Kalender
METHOD:PUBLISH
BEGIN:VTIMEZONE
TZID:Europe/Berlin
X-LIC-LOCATION:Europe/Berlin
BEGIN:STANDARD
TZNAME:CET
DTSTART:19701030T030000
RRULE:FREQ=YEARLY;BYDAY=-1SU;BYMONTH=10
TZOFFSETFROM:+0200
TZOFFSETTO:+0100
END:STANDARD
BEGIN:DAYLIGHT
TZNAME:CEST
DTSTART:19700327T020000
RRULE:FREQ=YEARLY;BYDAY=-1SU;BYMONTH=3
TZOFFSETFROM:+0100
TZOFFSETTO:+0200
END:DAYLIGHT
END:VTIMEZONE
BEGIN:VEVENT
UID:6924b9bc528779.58158568@ttv-muehlhausen.de
DTSTAMP:20260420T203900
SUMMARY:H7: TTG 1947 Walldorf III  - TTV MÃ¼hlhausen VII
CLASS:PRIVATE

DESCRIPTION: Beginn: 20:00 h
DTSTART;TZID=Europe/Berlin:20140919T191500
DTEND;TZID=Europe/Berlin:20140919T220000
LOCATION:Schulsporthalle Walldorf
BEGIN:VALARM
TRIGGER:-PT60M
ACTION:DISPLAY
DESCRIPTION:Erinnerung
END:VALARM
END:VEVENT
END:VCALENDAR