BEGIN:VCALENDAR
VERSION:2.0
PRODID:TT-Kalender
METHOD:PUBLISH
BEGIN:VTIMEZONE
TZID:Europe/Berlin
X-LIC-LOCATION:Europe/Berlin
BEGIN:STANDARD
TZNAME:CET
DTSTART:19701030T030000
RRULE:FREQ=YEARLY;BYDAY=-1SU;BYMONTH=10
TZOFFSETFROM:+0200
TZOFFSETTO:+0100
END:STANDARD
BEGIN:DAYLIGHT
TZNAME:CEST
DTSTART:19700327T020000
RRULE:FREQ=YEARLY;BYDAY=-1SU;BYMONTH=3
TZOFFSETFROM:+0100
TZOFFSETTO:+0200
END:DAYLIGHT
END:VTIMEZONE
BEGIN:VEVENT
UID:525da4050c5d06.05182988@ttv-muehlhausen.de
DTSTAMP:20260420T120800
SUMMARY:H1: ASV GrÃ¼nwettersbach III - TTV MÃ¼hlhausen Â 
CLASS:PRIVATE

DESCRIPTION: Beginn: 11:00 h
DTSTART;TZID=Europe/Berlin:20131117T094500
DTEND;TZID=Europe/Berlin:20131117T130000
LOCATION:ASV Turnhalle Im Rodel 7\, 76228 Karlsruhe-Grünwettersbach                    
BEGIN:VALARM
TRIGGER:-PT60M
ACTION:DISPLAY
DESCRIPTION:Erinnerung
END:VALARM
END:VEVENT
END:VCALENDAR