BEGIN:VCALENDAR
VERSION:2.0
PRODID:TT-Kalender
METHOD:PUBLISH
BEGIN:VTIMEZONE
TZID:Europe/Berlin
X-LIC-LOCATION:Europe/Berlin
BEGIN:STANDARD
TZNAME:CET
DTSTART:19701030T030000
RRULE:FREQ=YEARLY;BYDAY=-1SU;BYMONTH=10
TZOFFSETFROM:+0200
TZOFFSETTO:+0100
END:STANDARD
BEGIN:DAYLIGHT
TZNAME:CEST
DTSTART:19700327T020000
RRULE:FREQ=YEARLY;BYDAY=-1SU;BYMONTH=3
TZOFFSETFROM:+0100
TZOFFSETTO:+0200
END:DAYLIGHT
END:VTIMEZONE
BEGIN:VEVENT
UID:525da404e32c48.44985703@ttv-muehlhausen.de
DTSTAMP:20260420T120900
SUMMARY:H1: TTV MÃ¼hlhausen - TTV Weinheim-West Â 
CLASS:PRIVATE

DESCRIPTION: <strong>Saisonstart am Kerwesamstag</strong><br>=0D=0A=
Am kommenden Samstag\, den 5. Oktober startet die 1. Herrenmannschaft des TTV Mühlhausen in ihre dritte Verbandsligasaison. Zum ersten Heimspiel empfängt die Mannschaft mit dem TTC Weinheim-West einen Gegner\, gegen den die Punkte im Kraichgau bleiben sollten. Zum ersten Mal wird dann auch der Neuzugang des TTV Stefan Schneider aufschlagen. Eine spannende Partie ist in jedem Fall zu erwarten\, und die Mannschaft freut sich auf zahlreiche und lautstarke Fans. Vielleicht kommt ja auch der ein oder andere neue hinzu.<br>=0D=0A=
<strong>Spielbeginn: 17:30 Uhr\, Kaichgauhalle</strong>
DTSTART;TZID=Europe/Berlin:20131005T173000
DTEND;TZID=Europe/Berlin:20131005T193000
LOCATION:Kraichgauhalle\, Eingang oben Schulstr. 32\, 69242 Mühlhausen                  
BEGIN:VALARM
TRIGGER:-PT60M
ACTION:DISPLAY
DESCRIPTION:Erinnerung
END:VALARM
END:VEVENT
END:VCALENDAR