BEGIN:VCALENDAR
VERSION:2.0
PRODID:TT-Kalender
METHOD:PUBLISH
BEGIN:VTIMEZONE
TZID:Europe/Berlin
X-LIC-LOCATION:Europe/Berlin
BEGIN:STANDARD
TZNAME:CET
DTSTART:19701030T030000
RRULE:FREQ=YEARLY;BYDAY=-1SU;BYMONTH=10
TZOFFSETFROM:+0200
TZOFFSETTO:+0100
END:STANDARD
BEGIN:DAYLIGHT
TZNAME:CEST
DTSTART:19700327T020000
RRULE:FREQ=YEARLY;BYDAY=-1SU;BYMONTH=3
TZOFFSETFROM:+0100
TZOFFSETTO:+0200
END:DAYLIGHT
END:VTIMEZONE
BEGIN:VEVENT
UID:525da3ff1a2f73.07554926@ttv-muehlhausen.de
DTSTAMP:20260420T120900
SUMMARY:J1: TTV Weinheim-West - TTV MÃ¼hlhausen Â 
CLASS:PRIVATE

DESCRIPTION: Beginn: 13:30 h
DTSTART;TZID=Europe/Berlin:20140201T121500
DTEND;TZID=Europe/Berlin:20140201T161500
LOCATION:Dietrich-Bonhoeffer-Schule (Multschule) Breslauer Straße 60\, 69469 Weinheim   
BEGIN:VALARM
TRIGGER:-PT60M
ACTION:DISPLAY
DESCRIPTION:Erinnerung
END:VALARM
END:VEVENT
END:VCALENDAR